BEGIN:VCALENDAR
VERSION:2.0
PRODID:-//Amici dell'Arte e dell'Antiquariato - ECPv4.1.1.1//NONSGML v1.0//EN
CALSCALE:GREGORIAN
METHOD:PUBLISH
X-WR-CALNAME:Amici dell'Arte e dell'Antiquariato
X-ORIGINAL-URL:http://www.amicidellarteedellantiquariato.it
X-WR-CALDESC:Events for Amici dell'Arte e dell'Antiquariato
BEGIN:VEVENT
DTSTART;TZID=Europe/Rome:20200208T150000
DTEND;TZID=Europe/Rome:20200208T163000
DTSTAMP:20260424T141943
CREATED:20200102T172321
LAST-MODIFIED:20200102T173131
UID:911-1581174000-1581179400@www.amicidellarteedellantiquariato.it
SUMMARY:Visita al PAV\, Parco Arte Vivente
DESCRIPTION:Sabato 8 febbraio 2020\, con ritrovo alle ore 15\,00 presso la biglietteria del PAV (Parco d’Arte Vivente\, via Giordano Bruno 31\, visita alla mostra “Samakaalik: Democrazia della Terra e Femminismo” e alla collezione permanente del PAV. Una grande novità per l’associazione in quanto la mostra rappresenta un nuovo capitolo nell’indagine del rapporto tra pratiche artistiche e pensiero ecologista nel continente asiatico (prima personale italiana dell’artista indiana Navjot Altaf) attraverso la rappresentazione e l’intersecarsi simultaneo (samakaalik in hindi) delle lotte per la tutela ambientale al movimento femminista. Si visiterà anche il Parco d’Arte Vivente\, spazio poco conosciuto ma molto interessante per le opere e le attività che promuove sempre sensibili all’ambiente e al contemporaneo.\n\nPrenotazioni CUP D’ARTE a info@amicidellarteedellantiquariato.it entro lunedì 3 febbraio. Ingresso e visita\, intero\, euro 5\,00\, ridotto ad euro 3\,00 per i possessori dell’abbonamento Musei Torino (specificare alla prenotazione e ricordarsi il rinnovo!). Per i giovani fino a 25 anni: ridotto euro 3\,00\, gratuito per i possessori della Carta
URL:http://www.amicidellarteedellantiquariato.it/evento/visita-al-pav-parco-arte-vivente/
CATEGORIES:Eventi
ATTACH;FMTTYPE=image/jpeg:http://www.amicidellarteedellantiquariato.it/wp-content/uploads/2020/01/IMG_3364.jpg
END:VEVENT
END:VCALENDAR