BEGIN:VCALENDAR
VERSION:2.0
PRODID:-//Amici dell'Arte e dell'Antiquariato - ECPv4.1.1.1//NONSGML v1.0//EN
CALSCALE:GREGORIAN
METHOD:PUBLISH
X-WR-CALNAME:Amici dell'Arte e dell'Antiquariato
X-ORIGINAL-URL:http://www.amicidellarteedellantiquariato.it
X-WR-CALDESC:Events for Amici dell'Arte e dell'Antiquariato
BEGIN:VEVENT
DTSTART;TZID=Europe/Rome:20220129T101500
DTEND;TZID=Europe/Rome:20220129T120000
DTSTAMP:20260422T231527
CREATED:20220105T202130
LAST-MODIFIED:20220105T202130
UID:1077-1643451300-1643457600@www.amicidellarteedellantiquariato.it
SUMMARY:Parigi era vivo. De Chirico\, Savinio e les italiens de Paris
DESCRIPTION:Visita alla mostra Parigi era viva. De Chirico\, Savinio e les italiens de Paris presso la Fondazione Accorsi Ometto.\nCosto della visita guidata\, euro 10 ridotto a euro 5 per i possessori della tessera Musei.\nSi ricorda che per accedere alla mostra sono indispensabili Green Pass e mascherina.\nPrenotazioni entro giovedì 20 gennaio 2022 via wa\, s.m.s. o cell. 3356784471\, o via email direttamente ad info@amicidellarteedellantiquariato.it
URL:http://www.amicidellarteedellantiquariato.it/evento/savinio-les-italiens-de-paris/
LOCATION:Via Po 55\, Torino\, Italia
CATEGORIES:Eventi
ATTACH;FMTTYPE=image/jpeg:http://www.amicidellarteedellantiquariato.it/wp-content/uploads/2022/01/parigi_era_viva_2021.jpg
END:VEVENT
END:VCALENDAR