BEGIN:VCALENDAR
VERSION:2.0
PRODID:-//Amici dell'Arte e dell'Antiquariato - ECPv4.1.1.1//NONSGML v1.0//EN
CALSCALE:GREGORIAN
METHOD:PUBLISH
X-WR-CALNAME:Amici dell'Arte e dell'Antiquariato
X-ORIGINAL-URL:http://www.amicidellarteedellantiquariato.it
X-WR-CALDESC:Events for Amici dell'Arte e dell'Antiquariato
BEGIN:VEVENT
DTSTART;TZID=Europe/Rome:20190213T204500
DTEND;TZID=Europe/Rome:20190213T214500
DTSTAMP:20260425T145341
CREATED:20190107T150341
LAST-MODIFIED:20190124T184459
UID:743-1550090700-1550094300@www.amicidellarteedellantiquariato.it
SUMMARY:Mongolia\, al centro dell'Asia
DESCRIPTION:Alfredo Savino (studioso ed “abitante” di quelle terre) ci parlerà della  “Mongolia\, al centro dell’Asia”. Nel corso della serata oltre al racconto di questi spazi immensi\, saremo aggiornati sulla situazione attuale di questo Paese che sta affrontando gli “albori” di una transizione verso il “mondo moderno”: un percorso lungo le piste mongole con le immagini raccolte nel corso delle molte esplorazioni\, i “suoi” progetti di viaggio e di sostegno.\n\nGradita la prenotazione (via email:antonellacontardi@libero.it o info@amicidellarteedellantiquariato.it)  entro domenica 10 febbraio.
URL:http://www.amicidellarteedellantiquariato.it/evento/mongolia-al-centro-dellasia/
LOCATION:Via Giolitti 21\, Torino
CATEGORIES:Eventi
ATTACH;FMTTYPE=image/jpeg:http://www.amicidellarteedellantiquariato.it/wp-content/uploads/2019/01/mongolia.900x600.jpeg
END:VEVENT
END:VCALENDAR