BEGIN:VCALENDAR
VERSION:2.0
PRODID:-//Amici dell'Arte e dell'Antiquariato - ECPv4.1.1.1//NONSGML v1.0//EN
CALSCALE:GREGORIAN
METHOD:PUBLISH
X-WR-CALNAME:Amici dell'Arte e dell'Antiquariato
X-ORIGINAL-URL:http://www.amicidellarteedellantiquariato.it
X-WR-CALDESC:Events for Amici dell'Arte e dell'Antiquariato
BEGIN:VEVENT
DTSTART;TZID=Europe/Rome:20181126T173000
DTEND;TZID=Europe/Rome:20181126T190000
DTSTAMP:20260425T174750
CREATED:20181102T110312
LAST-MODIFIED:20181102T110312
UID:712-1543253400-1543258800@www.amicidellarteedellantiquariato.it
SUMMARY:Matta sarai tu...
DESCRIPTION:Lunedì 26 novembre\, ore 17\,30\, via Giulio 22\, presso la Sala Matrimoni\, ospiti del Comune Di Torino\, con le amiche della Fidapa Torino est\, “Matta sarai tu… A quarant’anni dalla chiusura dei manicomi\, dalla rappresentazione grafica al livello psichiatrico-psicologico: considerazioni”!\n\nIn occasione dei quarant’anni dalla chiusura dei manicomi\, la “nostra” Ludovica Matarozzo\, partendo dall’Archivio Lombroso e da alcuni disegni significativi indagherà i legami con la Art Brut e il prof. Annibale Crosignani\, psichiatra che aprì la prima comunità femminile a Torino\, presenterà alcune riflessioni sulla realtà odierna.\n\nPer ragioni organizzative è gradita la prenotazione\, entro giovedì 22 novembre.
URL:http://www.amicidellarteedellantiquariato.it/evento/matta-sarai-tu/
LOCATION:VIa Giulio 22\, Torino
CATEGORIES:Eventi
ATTACH;FMTTYPE=image/jpeg:http://www.amicidellarteedellantiquariato.it/wp-content/uploads/2018/11/Disegno.jpg
END:VEVENT
END:VCALENDAR