BEGIN:VCALENDAR
VERSION:2.0
PRODID:-//Amici dell'Arte e dell'Antiquariato - ECPv4.1.1.1//NONSGML v1.0//EN
CALSCALE:GREGORIAN
METHOD:PUBLISH
X-WR-CALNAME:Amici dell'Arte e dell'Antiquariato
X-ORIGINAL-URL:http://www.amicidellarteedellantiquariato.it
X-WR-CALDESC:Events for Amici dell'Arte e dell'Antiquariato
BEGIN:VEVENT
DTSTART;TZID=Europe/Rome:20201003T101500
DTEND;TZID=Europe/Rome:20201003T120000
DTSTAMP:20260424T094706
CREATED:20200902T092542
LAST-MODIFIED:20200902T092542
UID:932-1601720100-1601726400@www.amicidellarteedellantiquariato.it
SUMMARY:I portici di Torino
DESCRIPTION:Sabato 3 ottobre\, con ritrovo alle ore 10\,15\, piazza Castello angolo via Po\, lato Teatro Regio\, "I portici di Torino: una passeggiata tra cultura\, storia ed arte" passeggiata (che sarà poi riproposta in differita su YouTube) nell’ambito appuntamento imperdibile del mondo del volontariato culturale\, la VI Settimana della Cultura di UNI.VO.C.A. – Trenta anni sempre giovani.
URL:http://www.amicidellarteedellantiquariato.it/evento/i-portici-di-torino/
LOCATION:Piazza Castello \, Torino 
CATEGORIES:Eventi
ATTACH;FMTTYPE=image/jpeg:http://www.amicidellarteedellantiquariato.it/wp-content/uploads/2020/09/portici-torino-storia.jpg
END:VEVENT
END:VCALENDAR