BEGIN:VCALENDAR
VERSION:2.0
PRODID:-//Amici dell'Arte e dell'Antiquariato - ECPv4.1.1.1//NONSGML v1.0//EN
CALSCALE:GREGORIAN
METHOD:PUBLISH
X-WR-CALNAME:Amici dell'Arte e dell'Antiquariato
X-ORIGINAL-URL:http://www.amicidellarteedellantiquariato.it
X-WR-CALDESC:Events for Amici dell'Arte e dell'Antiquariato
BEGIN:VEVENT
DTSTART;TZID=Europe/Rome:20191019T065000
DTEND;TZID=Europe/Rome:20191020T200000
DTSTAMP:20260425T024215
CREATED:20190828T102342
LAST-MODIFIED:20191001T205310
UID:850-1571467800-1571601600@www.amicidellarteedellantiquariato.it
SUMMARY:Giulio Romano e Mantova
DESCRIPTION:Sabato 19 e domenica 20 ottobre\, a Mantova per la mostra “Con nuova e stravagante maniera”. Giulio Romano a Mantova a Palazzo Ducale e Giulio Romano: arte e desiderio nel Rinascimento  a Palazzo Te.\n\nUn’occasione importante per visitare una città splendida e approfondire\, attraverso le collezioni (e non solo) dei Gonzaga la figura del pittore romano e la sua “maniera” di fare arte.\n\nQui il programma dettagliato.\n\nIscrizioni entro il 7 Ottobre via info@amicidellarteedellantiquariato.it.
URL:http://www.amicidellarteedellantiquariato.it/evento/giulio-romano-mantova/
LOCATION:Mantova
CATEGORIES:Calendario,Eventi
ATTACH;FMTTYPE=image/jpeg:http://www.amicidellarteedellantiquariato.it/wp-content/uploads/2019/08/7.-Palazzo-Te_Sala-dei-Giganti_b.jpg
END:VEVENT
END:VCALENDAR