BEGIN:VCALENDAR
VERSION:2.0
PRODID:-//Amici dell'Arte e dell'Antiquariato - ECPv4.1.1.1//NONSGML v1.0//EN
CALSCALE:GREGORIAN
METHOD:PUBLISH
X-WR-CALNAME:Amici dell'Arte e dell'Antiquariato
X-ORIGINAL-URL:http://www.amicidellarteedellantiquariato.it
X-WR-CALDESC:Events for Amici dell'Arte e dell'Antiquariato
BEGIN:VEVENT
DTSTART;TZID=Europe/Rome:20200926T103000
DTEND;TZID=Europe/Rome:20200926T120000
DTSTAMP:20260424T110504
CREATED:20200919T160003
LAST-MODIFIED:20201211T170526
UID:961-1601116200-1601121600@www.amicidellarteedellantiquariato.it
SUMMARY:Georges de la Tour. L'Europa della luce
DESCRIPTION:Sabato 26 settembre 2020\, ore 10\,30 online in diretta ZOOM e in differita su youtube\, visita virtuale con Edoardo Berruti\, alla mostra "Georges de La Tour. L'Europa della luce" in chiusura a Palazzo Reale a Milano.\nID: 830 5028 7833 – PW: 220506\nInvito:\nhttps://us02web.zoom.us/j/83050287833?pwd=Tm0zQmdQcFM4dVRhZStnYnVYZldCUT09\nInfo: http://www.amicidellarteedellantiquariato.it - info@amicidellarteedellantiquariato.it\ntel. 3356784471 (Antonella)
URL:http://www.amicidellarteedellantiquariato.it/evento/georges-de-la-ture-leuropa-della-luce/
CATEGORIES:Eventi
ATTACH;FMTTYPE=image/jpeg:http://www.amicidellarteedellantiquariato.it/wp-content/uploads/2020/09/titolo-scheda-georges-de-la-tour.jpg
END:VEVENT
END:VCALENDAR