BEGIN:VCALENDAR
VERSION:2.0
PRODID:-//Amici dell'Arte e dell'Antiquariato - ECPv4.1.1.1//NONSGML v1.0//EN
CALSCALE:GREGORIAN
METHOD:PUBLISH
X-WR-CALNAME:Amici dell'Arte e dell'Antiquariato
X-ORIGINAL-URL:http://www.amicidellarteedellantiquariato.it
X-WR-CALDESC:Events for Amici dell'Arte e dell'Antiquariato
BEGIN:VEVENT
DTSTART;TZID=Europe/Rome:20191207T170000
DTEND;TZID=Europe/Rome:20191207T190000
DTSTAMP:20260424T222834
CREATED:20191119T221644
LAST-MODIFIED:20191119T221644
UID:890-1575738000-1575745200@www.amicidellarteedellantiquariato.it
SUMMARY:Concerto di canto e pianoforte
DESCRIPTION:Abbiamo il piacere di invitare i soci e gli amici al Concerto di canto e pianoforte con Francesca Sicilia (canto) e Pietro Ayamaung (pianoforte) nell’ambito della stagione concertistica curata dalla prof. Carla Papini a favore di giovani talento musicali che\, quest’anno\, la nostra associazione (con tutti i suoi soci!) promuove\, con piacere ed orgoglio.
URL:http://www.amicidellarteedellantiquariato.it/evento/concerto-canto-pianoforte/
LOCATION:Corso Govone 16\, Torino
CATEGORIES:Eventi
ATTACH;FMTTYPE=image/jpeg:http://www.amicidellarteedellantiquariato.it/wp-content/uploads/2019/11/A3A9751-e1545933610207.jpg
END:VEVENT
END:VCALENDAR