BEGIN:VCALENDAR
VERSION:2.0
PRODID:-//Amici dell'Arte e dell'Antiquariato - ECPv4.1.1.1//NONSGML v1.0//EN
CALSCALE:GREGORIAN
METHOD:PUBLISH
X-WR-CALNAME:Amici dell'Arte e dell'Antiquariato
X-ORIGINAL-URL:http://www.amicidellarteedellantiquariato.it
X-WR-CALDESC:Events for Amici dell'Arte e dell'Antiquariato
BEGIN:VEVENT
DTSTART;TZID=Europe/Rome:20210508T091500
DTEND;TZID=Europe/Rome:20210508T120000
DTSTAMP:20260423T233410
CREATED:20210501T150648
LAST-MODIFIED:20210501T150948
UID:1003-1620465300-1620475200@www.amicidellarteedellantiquariato.it
SUMMARY:Caravaggio ai Musei Reali
DESCRIPTION:Prima visita in presenza del 2021!\nEdoardo Berruti ci accompagnerà nella scoperta dell'opera San Giovanni Battista di Caravaggio\, arrivata negli spazi della Galleria Sabauda di Torino grazie a uno scambio fra le direzioni dei Musei Reali di Torino e le Gallerie Nazionali di Arte Antica Roma\, da cui proviene il quadro.\n\nVi saranno due visite guidate\, da gruppi di max 8 persone\, nei seguenti orari:\n1° Visita: ore 9.15\n\n2° Visita: ore 10.45\n\nRitrovo presso la biglietterie di Palazzo Reale\n\nIl prezzo della visita è di 6 euro per i possessori della tessera Musei\, di euro 20 per tutti gli altri.\n\nPer prenotare\, scrivere una email a info@amicidellarteedellantiquariato.it o via WhatsApp al numero +39 3356784471\, entro lunedì 3 maggio.\n\n 
URL:http://www.amicidellarteedellantiquariato.it/evento/caravaggio-ai-musei-reali/
LOCATION:Piazzetta Reale 1\, Torino
CATEGORIES:Eventi
ATTACH;FMTTYPE=image/jpeg:http://www.amicidellarteedellantiquariato.it/wp-content/uploads/2021/05/f7abac252ae5ed68121b92ba7a669d87_L.jpg
END:VEVENT
END:VCALENDAR