BEGIN:VCALENDAR
VERSION:2.0
PRODID:-//Amici dell'Arte e dell'Antiquariato - ECPv4.1.1.1//NONSGML v1.0//EN
CALSCALE:GREGORIAN
METHOD:PUBLISH
X-WR-CALNAME:Amici dell'Arte e dell'Antiquariato
X-ORIGINAL-URL:http://www.amicidellarteedellantiquariato.it
X-WR-CALDESC:Events for Amici dell'Arte e dell'Antiquariato
BEGIN:VEVENT
DTSTART;TZID=Europe/Rome:20210927T180000
DTEND;TZID=Europe/Rome:20210927T190000
DTSTAMP:20260423T130017
CREATED:20210922T201121
LAST-MODIFIED:20210922T201121
UID:1028-1632765600-1632769200@www.amicidellarteedellantiquariato.it
SUMMARY:Di nuovo in azione: Caccia al tesoro d'Arte in città
DESCRIPTION:"Di nuovo in azione: Caccia al tesoro d'Arte in città"\, con Emily Monaci\, volontaria in "formazione"\, che proporrà l'edizione "in presenza" della caccia al tesoro d'Arte.\nPrenotazioni via whatsapp al n. 335.6784471 o info@amicidellarteedellantiquariato.it
URL:http://www.amicidellarteedellantiquariato.it/evento/caccia-al-tesoro-2/
LOCATION:Piazza Castello \, Torino 
CATEGORIES:Eventi
ATTACH;FMTTYPE=image/jpeg:http://www.amicidellarteedellantiquariato.it/wp-content/uploads/2021/09/227074856.jpg
END:VEVENT
END:VCALENDAR