BEGIN:VCALENDAR
VERSION:2.0
PRODID:-//Amici dell'Arte e dell'Antiquariato - ECPv4.1.1.1//NONSGML v1.0//EN
CALSCALE:GREGORIAN
METHOD:PUBLISH
X-WR-CALNAME:Amici dell'Arte e dell'Antiquariato
X-ORIGINAL-URL:http://www.amicidellarteedellantiquariato.it
X-WR-CALDESC:Events for Amici dell'Arte e dell'Antiquariato
BEGIN:VEVENT
DTSTART;VALUE=DATE:20181117
DTEND;VALUE=DATE:20181117
DTSTAMP:20260425T191956
CREATED:20181102
LAST-MODIFIED:20181102
UID:709-1542412800-1542499199@www.amicidellarteedellantiquariato.it
SUMMARY:Asti e Chagall
DESCRIPTION:Sabato 17 novembre vi proponiamo una gita ad Asti in occasione della mostra  “Chagall\, colore e magia”.\nRitrovo\, in stazione Porta Nuova\, alle ore 10\,10 (partenza alle ore 10\,30)\, camminata cittadina con visita all’antica chiesa di San Secondo ed altri monumenti importanti\, pranzo e visita guidata alla mostra.\n\nCosto onnicomprensivo “intero” euro 55\,00. per i possessori dell’abbonamento Musei euro 45\,00 e per chi interessato\, euro 25\,00 pranzo escluso.\nPrenotazioni (CUP d’arte) entro martedì 6 novembre.
URL:http://www.amicidellarteedellantiquariato.it/evento/asti-e-chagall/
LOCATION:Asti
CATEGORIES:Eventi
ATTACH;FMTTYPE=image/jpeg:http://www.amicidellarteedellantiquariato.it/wp-content/uploads/2018/11/DnIlStTW0AAJmyJ.jpg
END:VEVENT
END:VCALENDAR