BEGIN:VCALENDAR
VERSION:2.0
PRODID:-//Amici dell'Arte e dell'Antiquariato - ECPv4.1.1.1//NONSGML v1.0//EN
CALSCALE:GREGORIAN
METHOD:PUBLISH
X-WR-CALNAME:Amici dell'Arte e dell'Antiquariato
X-ORIGINAL-URL:http://www.amicidellarteedellantiquariato.it
X-WR-CALDESC:Events for Amici dell'Arte e dell'Antiquariato
BEGIN:VEVENT
DTSTART;TZID=Europe/Rome:20211019T180000
DTEND;TZID=Europe/Rome:20211019T190000
DTSTAMP:20260423T112857
CREATED:20211010T123423
LAST-MODIFIED:20211010T124712
UID:1035-1634666400-1634670000@www.amicidellarteedellantiquariato.it
SUMMARY:Assemblea ordinaria annuale ed elettiva
DESCRIPTION:Martedì 19 ottobre\, ore 18\,00\, presso Vol.To\, via Giolitti 21\, ASSEMBLEA ORDINARIA ANNUALE ED ELETTIVA: si votano il nuovo Consiglio e le altre cariche. Ci sono nuove candidature? L’assemblea è un momento importante della vita associativa per cui chiediamo a tutti i nostri soci di essere presenti!\n\nASSEMBLEA ORDINARIA: a termini di statuto viene convocata per martedì 19 ottobre\, via Giolitti 21\, alle ore 06\,00 in prima convocazione ed alle ore 18\,00 in seconda\, con il seguente ordine del giorno:\n\n1. Relazione del Presidente\n\n2. Relazione del Tesoriere (il bilancio consuntivo e preventivo è già stato approvato\, come previsto dalla normativa\, lo scorso luglio)\n\n3. Discussione generale\n\n4. Elezione dei Probiviri e dei Revisori\n\n5. Elezione del Consiglio Direttivo e del Presidente\n\n6. Varie ed eventuali Possono partecipare\, candidarsi e votare solamente i soci in regola con l’iscrizione 2021.\n\nSi ricorda che per accedere ai locali di VOLTO sono indispensabili Green Pass mascherina.
URL:http://www.amicidellarteedellantiquariato.it/evento/assemblea-ordinaria-annuale-ed-elettiva/
LOCATION:Via Giolitti 21\, Torino
CATEGORIES:Eventi
END:VEVENT
END:VCALENDAR