BEGIN:VCALENDAR
VERSION:2.0
PRODID:-//Amici dell'Arte e dell'Antiquariato - ECPv4.1.1.1//NONSGML v1.0//EN
CALSCALE:GREGORIAN
METHOD:PUBLISH
X-WR-CALNAME:Amici dell'Arte e dell'Antiquariato
X-ORIGINAL-URL:http://www.amicidellarteedellantiquariato.it
X-WR-CALDESC:Events for Amici dell'Arte e dell'Antiquariato
BEGIN:VEVENT
DTSTART;TZID=Europe/Rome:20220122T110000
DTEND;TZID=Europe/Rome:20220122T130000
DTSTAMP:20260423T004916
CREATED:20220116T174749
LAST-MODIFIED:20220116T175255
UID:1085-1642849200-1642856400@www.amicidellarteedellantiquariato.it
SUMMARY:Anita e le altre. Storie di donne del Risorgimento
DESCRIPTION:\n“Anita e le altre. Storie di donne del Risorgimento”\nal Museo del Risorgimento (con ritrovo in via Accademia delle Scienze 5)\, il giorno\n\n\nsabato 22 gennaio ore 11.00.\n\nCosto della visita guidata\, euro 14\,000 ridotto euro 8 per i possessori della Tessera Musei (valida!).Si ricorda che per accedere alla mostra sono indispensabili Green Pass e mascherina FFP2.  PRENOTAZIONI DA SUBITO entro e non oltre giovedì 20 gennaio 2022 ad Antonella (via wa\, s.m.s. o cell. 3356784471\, o via em direttamente ad info@amicidellarteedellantiquariato.it).\nIl costo è di 8 euro per i possessori dell' Abbonamento Torino Musei e 14 euro per tutti gli altri.\n\n\nA presto\, un caro saluto\nAntonella
URL:http://www.amicidellarteedellantiquariato.it/evento/anita-le-storie-donne-del-risorgimento/
CATEGORIES:Eventi
ATTACH;FMTTYPE=image/png:http://www.amicidellarteedellantiquariato.it/wp-content/uploads/2022/01/Schermata-2021-11-23-alle-13.27.42.png
END:VEVENT
END:VCALENDAR