BEGIN:VCALENDAR
VERSION:2.0
PRODID:-//Amici dell'Arte e dell'Antiquariato - ECPv4.1.1.1//NONSGML v1.0//EN
CALSCALE:GREGORIAN
METHOD:PUBLISH
X-WR-CALNAME:Amici dell'Arte e dell'Antiquariato
X-ORIGINAL-URL:http://www.amicidellarteedellantiquariato.it
X-WR-CALDESC:Events for Amici dell'Arte e dell'Antiquariato
BEGIN:VEVENT
DTSTART;VALUE=DATE:20220529
DTEND;VALUE=DATE:20220529
DTSTAMP:20260423T043403
CREATED:20220516
LAST-MODIFIED:20220516
UID:1134-1653782400-1653868799@www.amicidellarteedellantiquariato.it
SUMMARY:La figura di Maria\, tra arte e devozione
DESCRIPTION:DOMENICA 29 maggio in occasione del mese tradizionalmente dedicato alla Vergine\, passeggiata torinese sulle tracce artistiche e devozionali di Maria. Ad accompagnarci nel percorso saremo guidati da Don Alessio Fucile\, esperto d'arte.\n\nRitrovo alle 15\,45 davanti al Santuario di Maria Ausiliatrice per concludere il percorso al Santuario della Consolata.\n\nPer la partecipazione si richiederà offerta libera. Il raccolto verrà donato a Don Alessio Fucile\, parroco della Gran Madre di Dio\, in Torino.\n\nPer prenotazioni: info@amicidellarteedellantiquariato.it  oppure 3356784471.\n\n \n\n 
URL:http://www.amicidellarteedellantiquariato.it/evento/la-figura-maria-arte-devozione/
CATEGORIES:Calendario,Eventi
ATTACH;FMTTYPE=image/jpeg:http://www.amicidellarteedellantiquariato.it/wp-content/uploads/2022/05/20031803_1451049508316987_1314031051491719919_n.jpg
END:VEVENT
END:VCALENDAR