BEGIN:VCALENDAR
VERSION:2.0
PRODID:-//Amici dell'Arte e dell'Antiquariato - ECPv4.1.1.1//NONSGML v1.0//EN
CALSCALE:GREGORIAN
METHOD:PUBLISH
X-WR-CALNAME:Amici dell'Arte e dell'Antiquariato
X-ORIGINAL-URL:http://www.amicidellarteedellantiquariato.it
X-WR-CALDESC:Events for Amici dell'Arte e dell'Antiquariato
BEGIN:VEVENT
DTSTART;TZID=Europe/Rome:20220312T084500
DTEND;TZID=Europe/Rome:20220312T180500
DTSTAMP:20260423T072903
CREATED:20220228T205424
LAST-MODIFIED:20220228T205424
UID:1097-1647074700-1647108300@www.amicidellarteedellantiquariato.it
SUMMARY:ESCURSIONE A NOVARA - La pittura del XIX secolo e le vertigini della cupola
DESCRIPTION:Ritornano le gite! e si punta sempre più in alto!!\n\nEscursione con il treno a Novara e visita al Battistero\, salita lungo i camminamenti esclusi alle tradizionali visite\, per giungere sulla cupola di San Gaudenzio e per concludere\, visita alla mostra "Il mito di Venezia\, da Hayez alla Biennale".\n\nE' prevista la possibilità di scegliere il tipo di salita che si intende affrontare: cupola 250 scalini\, guglia 400 o di poter in alternativa alla cupola visitare la Galleria Giannoni.\n\nPer ulteriori informazioni e prenotazioni ENTRO Il 3 marzo: Antonella 3356784471 o via mail info@amicidellarteedellantiquariato.it o antonellacontardi@libero.it\n\n 
URL:http://www.amicidellarteedellantiquariato.it/evento/escursione-novara-la-pittura-del-xix-secolo-le-vertigini-della-cupola/
LOCATION:Italia
CATEGORIES:Calendario,Eventi
ATTACH;FMTTYPE=image/jpeg:http://www.amicidellarteedellantiquariato.it/wp-content/uploads/2022/02/IMMAGINE-DI-COPERTINA_taglio-copertina-1.jpg
END:VEVENT
END:VCALENDAR