BEGIN:VCALENDAR
VERSION:2.0
PRODID:-//Amici dell'Arte e dell'Antiquariato - ECPv4.1.1.1//NONSGML v1.0//EN
CALSCALE:GREGORIAN
METHOD:PUBLISH
X-WR-CALNAME:Amici dell'Arte e dell'Antiquariato
X-ORIGINAL-URL:http://www.amicidellarteedellantiquariato.it
X-WR-CALDESC:Events for Amici dell'Arte e dell'Antiquariato
BEGIN:VEVENT
DTSTART;TZID=Europe/Rome:20210925T144500
DTEND;TZID=Europe/Rome:20210925T180000
DTSTAMP:20260423T163300
CREATED:20210922T200856
LAST-MODIFIED:20210922T200856
UID:1026-1632581100-1632592800@www.amicidellarteedellantiquariato.it
SUMMARY:Di nuovo in azione: Buriasco e dintorni
DESCRIPTION:"Di nuovo in azione: Buriasco e dintorni" passeggiata condotta da Giulia Bertinetto\, appassionata abitante e giovane volontaria. Con ritrovo alle ore 14\,45\, direttamente in loco\, visita “straordinaria” alla Cappella di Santa Maria della Stella (SP159\, 19\, Cappella Stella) in territorio di Macello con i suoi antichi affreschi\, per proseguire verso Buriasco alla scoperta del borgo. A conclusione merenda facoltativa\, in amicizia.\nPossibilità di organizzare automobili "collettive".\n\n\nPrenotazioni via whatsapp al n. 335.6784471 o info@amicidellarteedellantiquariato.it\n\n
URL:http://www.amicidellarteedellantiquariato.it/evento/azione-buriasco-dintorni/
LOCATION:Cappella Stella\, Torino
CATEGORIES:Eventi
END:VEVENT
END:VCALENDAR