BEGIN:VCALENDAR
VERSION:2.0
PRODID:-//Amici dell'Arte e dell'Antiquariato - ECPv4.1.1.1//NONSGML v1.0//EN
CALSCALE:GREGORIAN
METHOD:PUBLISH
X-WR-CALNAME:Amici dell'Arte e dell'Antiquariato
X-ORIGINAL-URL:http://www.amicidellarteedellantiquariato.it
X-WR-CALDESC:Events for Amici dell'Arte e dell'Antiquariato
BEGIN:VEVENT
DTSTART;TZID=Europe/Rome:20210516T100000
DTEND;TZID=Europe/Rome:20210516T120000
DTSTAMP:20260423T234239
CREATED:20210501T152239
LAST-MODIFIED:20210501T152239
UID:1005-1621159200-1621166400@www.amicidellarteedellantiquariato.it
SUMMARY:Passeggiata al Valentino
DESCRIPTION:Domenica 16 maggio\, con ritrovo alle ore 10\, vi proponiamo una passeggiata al Valentino\, per condividere assieme la bella stagione\, ma in tutta sicurezza. Partiremo dal Castello del Valentino (facoltà di Architettura)\, da cui si raggiungerà La Fontana dei 12 Mesi. La passeggiata sarà l'occasione per riscoprire assieme e con sguardo diverso una parte del Valentino\n\nPer le prenotazioni\, scrivere una email di conferma a info@amicidellarteedellantiquariato.it o via WhatsApp al numero +39 3356784471\n\n \n\n 
URL:http://www.amicidellarteedellantiquariato.it/evento/passeggiata-al-valentino/
LOCATION:Viale Mattioli 39\, Torino \, 10125
CATEGORIES:Eventi
ATTACH;FMTTYPE=image/jpeg:http://www.amicidellarteedellantiquariato.it/wp-content/uploads/2021/05/fontana-12-mesi-4.jpg
END:VEVENT
END:VCALENDAR