BEGIN:VCALENDAR
VERSION:2.0
PRODID:-//Amici dell'Arte e dell'Antiquariato - ECPv4.1.1.1//NONSGML v1.0//EN
CALSCALE:GREGORIAN
METHOD:PUBLISH
X-WR-CALNAME:Amici dell'Arte e dell'Antiquariato
X-ORIGINAL-URL:http://www.amicidellarteedellantiquariato.it
X-WR-CALDESC:Events for Amici dell'Arte e dell'Antiquariato
BEGIN:VEVENT
DTSTART;TZID=Europe/Rome:20210411T180000
DTEND;TZID=Europe/Rome:20210411T190000
DTSTAMP:20260424T011853
CREATED:20210408T204422
LAST-MODIFIED:20210408T204422
UID:993-1618164000-1618167600@www.amicidellarteedellantiquariato.it
SUMMARY:Dante nell'Arte
DESCRIPTION:Nell’ambito delle tante\, interessanti ed importanti manifestazioni in atto per i 700 anni dalla morte di Dante\, proponiamo\, sulla piattaforma Zoom\, Dante nell’Arte con la dott.ssa Jennifer Celani: un tema affasciante tra arte\, luoghi e citazioni. Il link d’invito sarà comunicato in prossimità dell’incontro.\nPer il link dell'evento contattare l'associazione tramite email info@amicidellarteedellantiquariato.it
URL:http://www.amicidellarteedellantiquariato.it/evento/dante-nellarte/
CATEGORIES:Calendario,Eventi
ATTACH;FMTTYPE=image/jpeg:http://www.amicidellarteedellantiquariato.it/wp-content/uploads/2021/04/Locandina-Dante-nellarte_page-0001.jpg
END:VEVENT
END:VCALENDAR