BEGIN:VCALENDAR
VERSION:2.0
PRODID:-//Amici dell'Arte e dell'Antiquariato - ECPv4.1.1.1//NONSGML v1.0//EN
CALSCALE:GREGORIAN
METHOD:PUBLISH
X-WR-CALNAME:Amici dell'Arte e dell'Antiquariato
X-ORIGINAL-URL:http://www.amicidellarteedellantiquariato.it
X-WR-CALDESC:Events for Amici dell'Arte e dell'Antiquariato
BEGIN:VEVENT
DTSTART;TZID=Europe/Rome:20210321T180000
DTEND;TZID=Europe/Rome:20210321T190000
DTSTAMP:20260424T024847
CREATED:20210302T094355
LAST-MODIFIED:20210302T094355
UID:987-1616349600-1616353200@www.amicidellarteedellantiquariato.it
SUMMARY:Ciclo Uomo e Natura: Terra
DESCRIPTION:Domenica 21 Marzo 2021\, ore 18\,00\, sulla piattaforma ZOOM si terrà il quinto e ultimo appuntamento del Ciclo Uomo e Natura. Durante l’incontro chiacchiereremo assieme dell’elemento della terra e della sua presenza nella storia dell’arte.\n\nPer i codici\, scrivere a info@amicidellarteedellantiquariato.it
URL:http://www.amicidellarteedellantiquariato.it/evento/ciclo-uomo-natura-terra/
CATEGORIES:Eventi
END:VEVENT
END:VCALENDAR