BEGIN:VCALENDAR
VERSION:2.0
PRODID:-//Amici dell'Arte e dell'Antiquariato - ECPv4.1.1.1//NONSGML v1.0//EN
CALSCALE:GREGORIAN
METHOD:PUBLISH
X-WR-CALNAME:Amici dell'Arte e dell'Antiquariato
X-ORIGINAL-URL:http://www.amicidellarteedellantiquariato.it
X-WR-CALDESC:Events for Amici dell'Arte e dell'Antiquariato
BEGIN:VEVENT
DTSTART;TZID=Europe/Rome:20210221T180000
DTEND;TZID=Europe/Rome:20210221T190000
DTSTAMP:20260424T041514
CREATED:20210215T205507
LAST-MODIFIED:20210215T205507
UID:984-1613930400-1613934000@www.amicidellarteedellantiquariato.it
SUMMARY:Ciclo Uomo e Natura: Fuoco
DESCRIPTION:Domenica 21 febbraio 2021\, ore 18\,00\, sulla piattaforma ZOOM si terrà il secondo appuntamento del Ciclo Uomo e Natura. Durante l'incontro chiacchiereremo assieme dell'elemento del fuoco e della sua presenza nella storia dell'arte.\n\nPer i codici\, scrivere a info@amicidellarteedellantiquariato.it\n\n 
URL:http://www.amicidellarteedellantiquariato.it/evento/ciclo-uomo-natura-fuoco/
CATEGORIES:Eventi
END:VEVENT
END:VCALENDAR