BEGIN:VCALENDAR
VERSION:2.0
PRODID:-//Amici dell'Arte e dell'Antiquariato - ECPv4.1.1.1//NONSGML v1.0//EN
CALSCALE:GREGORIAN
METHOD:PUBLISH
X-WR-CALNAME:Amici dell'Arte e dell'Antiquariato
X-ORIGINAL-URL:http://www.amicidellarteedellantiquariato.it
X-WR-CALDESC:Events for Amici dell'Arte e dell'Antiquariato
BEGIN:VEVENT
DTSTART;TZID=Europe/Rome:20201220T180000
DTEND;TZID=Europe/Rome:20201220T190000
DTSTAMP:20260424T071820
CREATED:20201211T161655
LAST-MODIFIED:20201211T161655
UID:947-1608487200-1608490800@www.amicidellarteedellantiquariato.it
SUMMARY:Caccia all'arte di Natale
DESCRIPTION:Domenica 20 dicembre 2020\, ore 18\,00\, sulla piattaforma ZOOM\, le soluzioni della “Caccia all’arte di Natale” con Edoardo Berruti e gli immancabili auguri associativi 2020 con il Consiglio direttivo\, il presidente e tutti i soci!\nLe immagini da scoprire della “Caccia all’arte di Natale” saranno inviate a tutti i soci già iscritti alle precedenti “cacce” e a quanti si vorranno aggiungere: comunicare email e numero di cellulare a info@amicidelarteedell'antiquariato.it oppure direttamente ad Antonella (via s.m.s. o cell. 3356784471\, o via em: antonellacontardi@libero.it) entro il prossimo venerdì 11 dicembre.\nEcco il link e i codici:\nhttps://us02web.zoom.us/j/87428070254?pwd=V2RaYXlBTlpUOUowZmhrT2hOQ1lndz09\nID incontro: 874 2807 0254 PW: 574167
URL:http://www.amicidellarteedellantiquariato.it/evento/caccia-allarte-natale/
CATEGORIES:Eventi
ATTACH;FMTTYPE=image/jpeg:http://www.amicidellarteedellantiquariato.it/wp-content/uploads/2019/06/Antonello_da_Messina_-_Virgin_Annunciate_-_Galleria_Regionale_della_Sicilia_Palermo.jpg
END:VEVENT
END:VCALENDAR