BEGIN:VCALENDAR
VERSION:2.0
PRODID:-//Amici dell'Arte e dell'Antiquariato - ECPv4.1.1.1//NONSGML v1.0//EN
CALSCALE:GREGORIAN
METHOD:PUBLISH
X-WR-CALNAME:Amici dell'Arte e dell'Antiquariato
X-ORIGINAL-URL:http://www.amicidellarteedellantiquariato.it
X-WR-CALDESC:Events for Amici dell'Arte e dell'Antiquariato
BEGIN:VEVENT
DTSTART;TZID=Europe/Rome:20200919T103000
DTEND;TZID=Europe/Rome:20200919T120000
DTSTAMP:20260424T111858
CREATED:20200902T092033
LAST-MODIFIED:20200902T092033
UID:928-1600511400-1600516800@www.amicidellarteedellantiquariato.it
SUMMARY:Sfida al Barocco\, Roma\, Torino\, e Parigi 1680-1750
DESCRIPTION:Sabato 19 settembre 2020\, con ritrovo alle ore 10\,30 alla presso la biglietteria della Reggia di Venaria\, piazza della Repubblica n. 4\, “Sfida al Barocco\, Roma\, Torino\, e Parigi 1680-1750”: quella lanciata dagli artisti in nome della modernità con la sperimentazione di nuove forme e nuovi linguaggi di comunicazione elaborati tra il 1680 e il 1750. Una ricerca che si sviluppa tra Roma e Parigi\, i due poli di attrazione dell’Europa moderna con cui la Torino di quegli anni intesse un intenso dialogo di idee e di scambio di opere e di artisti\, che contribuiscono a una stagione epocale di rinnovamento delle arti sulla scena internazionale. Oltre 200 capolavori provenienti dai più prestigiosi musei e collezioni di tutto il mondo.\n\nPre-prenotazioni entro 30 agosto - limitate a 12 persone: ingresso e visita\, intero\, euro 21\,00\, ridotto ad euro 19\,00 per i possessori dell’abbonamento Musei Torino (specificare alla prenotazione). Per i giovani fino a 25 anni: speciale euro 12\,00 ridotto ad euro 6\,00 per i possessori della Carta Musei.
URL:http://www.amicidellarteedellantiquariato.it/evento/sfida-al-barocco-roma-torino-parigi-1680-1750/
LOCATION:Piazza della Repubblica 4\, Venaria
CATEGORIES:Eventi
ATTACH;FMTTYPE=image/jpeg:http://www.amicidellarteedellantiquariato.it/wp-content/uploads/2020/09/unnamed.jpg
END:VEVENT
END:VCALENDAR