BEGIN:VCALENDAR
VERSION:2.0
PRODID:-//Amici dell'Arte e dell'Antiquariato - ECPv4.1.1.1//NONSGML v1.0//EN
CALSCALE:GREGORIAN
METHOD:PUBLISH
X-WR-CALNAME:Amici dell'Arte e dell'Antiquariato
X-ORIGINAL-URL:http://www.amicidellarteedellantiquariato.it
X-WR-CALDESC:Events for Amici dell'Arte e dell'Antiquariato
BEGIN:VEVENT
DTSTART;TZID=Europe/Rome:20200910T180000
DTEND;TZID=Europe/Rome:20200910T190000
DTSTAMP:20260424T111806
CREATED:20200902T091819
LAST-MODIFIED:20200902T092052
UID:927-1599760800-1599764400@www.amicidellarteedellantiquariato.it
SUMMARY:Assemblea Ordinaria dei Soci 2020
DESCRIPTION:Giovedì 10 settembre\, ore 18\,00\, sulla piattaforma ZOOM. Saranno comunicate le coordinate per partecipare. Tutti i soci regolarmente iscritti possono partecipare e contribuire alla vita associativa: un’occasione da non perdere. Sarà anche l’occasione per salutarci dopo la pausa estiva e valutare insieme\, anche alla luce della situazione reale\, la programmazione delle attività associative.\n\nORDINE DEL GIORNO ASSEMBLEA ORDINARIA ANNUALE 2020\n\nA termini di statuto viene convocata per il 9 settembre\, ore 23\,58 in prima convocazione e per il 10 settembre 2020\, alle ore 18\,00 in seconda\, con il seguente ordine del giorno:\n1. Relazione del Presidente\n2. Relazione del Tesoriere\n3. Discussione generale\n4. Approvazione bilancio consuntivo e preventivo\n5. Varie ed eventuali\nPossono partecipare e votare solamente i soci in regola con l’iscrizione 2020. Ognuno può ricevere fino a due deleghe (ricordarsi di allegare alla delega anche copia del documento di identità del delegante. Grazie).
URL:http://www.amicidellarteedellantiquariato.it/evento/assemblea-ordinaria-dei-soci-2020/
CATEGORIES:Eventi
END:VEVENT
END:VCALENDAR