BEGIN:VCALENDAR
VERSION:2.0
PRODID:-//Amici dell'Arte e dell'Antiquariato - ECPv4.1.1.1//NONSGML v1.0//EN
CALSCALE:GREGORIAN
METHOD:PUBLISH
X-WR-CALNAME:Amici dell'Arte e dell'Antiquariato
X-ORIGINAL-URL:http://www.amicidellarteedellantiquariato.it
X-WR-CALDESC:Events for Amici dell'Arte e dell'Antiquariato
BEGIN:VEVENT
DTSTART;TZID=Europe/Rome:20191217T201500
DTEND;TZID=Europe/Rome:20191217T223000
DTSTAMP:20260424T235251
CREATED:20191202T202246
LAST-MODIFIED:20191202T202246
UID:902-1576613700-1576621800@www.amicidellarteedellantiquariato.it
SUMMARY:Cena di Natale
DESCRIPTION:Vi aspettiamo per l’ irrinunciabile “cena natalizia” presso il ristorante Il Melograno\, la cui cucina si ispira costantemente alla tradizione ma con risultati sempre “sorprendenti”… segnate in agenda\, non mancate!\nPrenotare entro sabato 14 dicembre ad Antonella via s.m.s. o cell. 3356784471\, o via em: antonellacontardi@libero.it o info@amicidellarteedellantiquariato.it.\nPer tutti\, soci ed amici\, euro 38\,00.
URL:http://www.amicidellarteedellantiquariato.it/evento/cena-natale-2/
LOCATION:Via Gaudenzio Ferrari 5/i
CATEGORIES:Eventi
END:VEVENT
END:VCALENDAR