BEGIN:VCALENDAR
VERSION:2.0
PRODID:-//Amici dell'Arte e dell'Antiquariato - ECPv4.1.1.1//NONSGML v1.0//EN
CALSCALE:GREGORIAN
METHOD:PUBLISH
X-WR-CALNAME:Amici dell'Arte e dell'Antiquariato
X-ORIGINAL-URL:http://www.amicidellarteedellantiquariato.it
X-WR-CALDESC:Events for Amici dell'Arte e dell'Antiquariato
BEGIN:VEVENT
DTSTART;TZID=Europe/Rome:20191211T180000
DTEND;TZID=Europe/Rome:20191211T193000
DTSTAMP:20260424T235413
CREATED:20191202T201429
LAST-MODIFIED:20191202T201429
UID:898-1576087200-1576092600@www.amicidellarteedellantiquariato.it
SUMMARY:Cavalcabo Bijoux
DESCRIPTION:Ormai un appuntamento natalizio\, anche quest'anno saremo ospiti della Galleria Bertola per la visita di una mostra particolare: “Cavalcabo’ Bijoux” ovvero la collezione dei bijoux di Daniela Cavalcabò\, designer di gioielli particolari ed irripetibili perché realizzati “assemblando” pietre dure e pezzi antichi dall’ottocento al novecento secondo un pensiero creativo e sostenibile…\nA conclusione\, il tradizionale panettone e “i primi auguri associativi”!\nPer ragioni organizzative è opportuno segnalare la propria presenza\, entro lunedì 9 dicembre\, direttamente ad Antonella via s.m.s. o cell. 3356784471\, o via em: antonellacontardi@libero.it o info@amicidellarteedellantiquariato.it
URL:http://www.amicidellarteedellantiquariato.it/evento/cavalcabo-bijoux/
LOCATION:Via Silvio Pellico 29\, Torino
CATEGORIES:Eventi
END:VEVENT
END:VCALENDAR