BEGIN:VCALENDAR
VERSION:2.0
PRODID:-//Amici dell'Arte e dell'Antiquariato - ECPv4.1.1.1//NONSGML v1.0//EN
CALSCALE:GREGORIAN
METHOD:PUBLISH
X-WR-CALNAME:Amici dell'Arte e dell'Antiquariato
X-ORIGINAL-URL:http://www.amicidellarteedellantiquariato.it
X-WR-CALDESC:Events for Amici dell'Arte e dell'Antiquariato
BEGIN:VEVENT
DTSTART;TZID=Europe/Rome:20191116T100000
DTEND;TZID=Europe/Rome:20191116T120000
DTSTAMP:20260425T011737
CREATED:20190828T103054
LAST-MODIFIED:20190828T103054
UID:855-1573898400-1573905600@www.amicidellarteedellantiquariato.it
SUMMARY:Visita alla collezione Cerruti
DESCRIPTION:Sabato 16 novembre\, ore 10\,00 con ritrovo al Castello di Rivoli\, visita alla mai esposta raccolta dell’imprenditore torinese Francesco Federico Cerruti e alla sua villa.\nLa raccolta di opere\, iniziata alla fine degli anni Sessanta rappresenta un unicum nella storia del collezionismo privato italiano ed è oggi visibile grazie ad un accordo tra Castello di Rivoli Museo d’Arte Contemporanea e la Fondazione Francesco Federico Cerruti per l’Arte. Capolavori dei principali artisti al mondo\, dalle opere di Segno di Bonaventura\, Agnolo Gaddi e Pontormo fino a quelle di Renoir\, Modigliani\, Klee\, Boccioni\, Balla\, Magritte\, per arrivare a Bacon\, Burri\, Warhol\, De Dominicis e Paolini ma anche libri ed arredi….\nPrenotazioni entro giovedì 31 ottobre\, via email info@amicidellarteedellantiquariato.it\n\nBiglietto con visita intero\, € 27\,00\, ridotto ad € 20\,00 solo per età superiore a 65 o inferiore a 26 anni.
URL:http://www.amicidellarteedellantiquariato.it/evento/visita-alla-collezione-cerruti/
LOCATION:Piazzale Mafalda di Savoia 2\, Rivoli
CATEGORIES:Calendario,Eventi
ATTACH;FMTTYPE=image/jpeg:http://www.amicidellarteedellantiquariato.it/wp-content/uploads/2019/08/Mame-arte-COLLEZIONE-CERRUTI.-300-OPERE-DI-RARA-BELLEZZA-MAI-VISTE-FINORA-Villa-Cerruti.jpg
END:VEVENT
END:VCALENDAR