BEGIN:VCALENDAR
VERSION:2.0
PRODID:-//Amici dell'Arte e dell'Antiquariato - ECPv4.1.1.1//NONSGML v1.0//EN
CALSCALE:GREGORIAN
METHOD:PUBLISH
X-WR-CALNAME:Amici dell'Arte e dell'Antiquariato
X-ORIGINAL-URL:http://www.amicidellarteedellantiquariato.it
X-WR-CALDESC:Events for Amici dell'Arte e dell'Antiquariato
BEGIN:VEVENT
DTSTART;TZID=Europe/Rome:20190504T100000
DTEND;TZID=Europe/Rome:20190504T120000
DTSTAMP:20260425T102311
CREATED:20190322T214600
LAST-MODIFIED:20190322T215453
UID:779-1556964000-1556971200@www.amicidellarteedellantiquariato.it
SUMMARY:Le Madame Reali
DESCRIPTION:Visita accompagnata alla mostra "Le Madame Reali" che con oltre 120 opere tra dipinti\, oggetti d’arte\, arredi\, tessuti\, gioielli\, oreficerie\, ceramiche\, disegni ed incisioni\, racconta delle due Madame Reali\, delle parentele che le collegano alle maggiori case regnanti europee\, delle loro azioni politiche e culturali. Biglietto comprensivo dell’ingresso e della visita: intero\, € 10\,00\, ridotto ad € 3\,00 per i possessori dell’abbonamento Musei Torino. Per i giovani fino a 25 anni: euro 5\,00 ridotto ad euro 2\,00 per i possessori della Carta Musei.\nPrenotazioni via email: antonellacontardi@libero.it o  info@amicidellarteedellantiquariato.it entro giovedì 25 aprile 2019.
URL:http://www.amicidellarteedellantiquariato.it/evento/le-madame-reali/
LOCATION:Piazza Castello\, Torino
CATEGORIES:Eventi
ATTACH;FMTTYPE=image/jpeg:http://www.amicidellarteedellantiquariato.it/wp-content/uploads/2019/03/IMG20181220114311344_900_700.jpeg
END:VEVENT
END:VCALENDAR