BEGIN:VCALENDAR
VERSION:2.0
PRODID:-//Amici dell'Arte e dell'Antiquariato - ECPv4.1.1.1//NONSGML v1.0//EN
CALSCALE:GREGORIAN
METHOD:PUBLISH
X-WR-CALNAME:Amici dell'Arte e dell'Antiquariato
X-ORIGINAL-URL:http://www.amicidellarteedellantiquariato.it
X-WR-CALDESC:Events for Amici dell'Arte e dell'Antiquariato
BEGIN:VEVENT
DTSTART;TZID=Europe/Rome:20190330T103000
DTEND;TZID=Europe/Rome:20190330T120000
DTSTAMP:20260425T132650
CREATED:20190219T201414
LAST-MODIFIED:20190219T203102
UID:760-1553941800-1553947200@www.amicidellarteedellantiquariato.it
SUMMARY:Visita al Museo Lavazza
DESCRIPTION:Un itinerario “circolare” che ripercorre la storia di Lavazza e la filiera del caffè\, imprevedibile per contenuti\, informazioni e modalità di interazione. Un percorso nel mondo del caffè Lavazza\, reso speciale da una tazzina interattiva…Visiteremo l’intero complesso e l’area archeologica!\n\nBiglietto comprensivo dell’ingresso e della visita: intero\, € 25\,00\, ridotto ad  € 10\,00 per i possessori dell’ abbonamento Musei Torino.\nPer i giovani fino a 25 anni: euro 20\,00 ridotto ad euro 7\,00 per i possessori della Carta Musei.\n\nPrenotazioni via email info@amicidellarteedellantiquariato.it entro  giovedì 14 marzo 2019
URL:http://www.amicidellarteedellantiquariato.it/evento/visita-al-museo-lavazza/
LOCATION:Via Bologna 32
CATEGORIES:Eventi
ATTACH;FMTTYPE=image/jpeg:http://www.amicidellarteedellantiquariato.it/wp-content/uploads/2019/02/museo-lavazza-torino-633x400.jpg
END:VEVENT
END:VCALENDAR