BEGIN:VCALENDAR
VERSION:2.0
PRODID:-//Amici dell'Arte e dell'Antiquariato - ECPv4.1.1.1//NONSGML v1.0//EN
CALSCALE:GREGORIAN
METHOD:PUBLISH
X-WR-CALNAME:Amici dell'Arte e dell'Antiquariato
X-ORIGINAL-URL:http://www.amicidellarteedellantiquariato.it
X-WR-CALDESC:Events for Amici dell'Arte e dell'Antiquariato
BEGIN:VEVENT
DTSTART;TZID=Europe/Rome:20190316T100000
DTEND;TZID=Europe/Rome:20190316T120000
DTSTAMP:20260425T132025
CREATED:20190219T201837
LAST-MODIFIED:20190219T202551
UID:762-1552730400-1552737600@www.amicidellarteedellantiquariato.it
SUMMARY:Visita alla mostra "Van Dyck\, pittore di corte"
DESCRIPTION:Pittore ufficiale di alcune delle più grandi corti d’Europa la mostra si presenta con una grande esposizione incentrata sull’importante produzione di ritratti e non solo. Oltre cento opere provenienti da importanti musei a confronto con quelle conservate proprio presso la Galleria Sabauda.\n\nBiglietto comprensivo dell’ingresso e della visita: intero\, € 15\,00\, ridotto ad  € 6\,00 per i possessori dell’ abbonamento Musei Torino (ricordarsi di rinnovare!).\nPer i giovani fino a 25 anni: euro 6\,00 ridotto ad euro 4\,00 per i possessori della Carta Musei.\n\nPrenotazioni via email info@amicidellarteedellantiquariato.it entro giovedì 28 febbraio 2019
URL:http://www.amicidellarteedellantiquariato.it/evento/van-dyck-pittore-corte/
LOCATION:Piazzetta Reale 1
CATEGORIES:Eventi
ATTACH;FMTTYPE=image/jpeg:http://www.amicidellarteedellantiquariato.it/wp-content/uploads/2019/02/Antoon-van-Dyck.jpg
END:VEVENT
END:VCALENDAR