BEGIN:VCALENDAR
VERSION:2.0
PRODID:-//Amici dell'Arte e dell'Antiquariato - ECPv4.1.1.1//NONSGML v1.0//EN
CALSCALE:GREGORIAN
METHOD:PUBLISH
X-WR-CALNAME:Amici dell'Arte e dell'Antiquariato
X-ORIGINAL-URL:http://www.amicidellarteedellantiquariato.it
X-WR-CALDESC:Events for Amici dell'Arte e dell'Antiquariato
BEGIN:VEVENT
DTSTART;TZID=Europe/Rome:20190208T170000
DTEND;TZID=Europe/Rome:20190208T183000
DTSTAMP:20260425T145145
CREATED:20190107T145951
LAST-MODIFIED:20190107T145951
UID:741-1549645200-1549650600@www.amicidellarteedellantiquariato.it
SUMMARY:Tutti gli Ismi di Armando Testa
DESCRIPTION:Visita/racconto alla mostra “Tutti  gli  Ismi  di Armando Testa”.  La lunga carriera del pubblicitario e artista  torinese\,  Caballero  e  Carmencita\,  l’ippopotamo  azzurro  Pippo:  tutti  i  soggetti pubblicitari entrati a far parte dell’immaginario collettivo di più generazioni … per finire con l’immancabile Punt e Mes!\n\nBiglietto comprensivo dell’ingresso e della visita: intero\, € 12\,00\, ridotto ad  € 5\,00 per i possessori dell’ abbonamento Musei Torino. Per i giovani fino a 25 anni: euro 5\,00 ridotto ad euro 3\,00 per i possessori della Carta Musei.\n\nPrenotazioni (via email: antonellacontardi@libero.it o info@amicidellarteedellantiquariato.it) entro lunedì 4 febbraio.
URL:http://www.amicidellarteedellantiquariato.it/evento/tutti-gli-ismi-armando-testa/
LOCATION:Piazza San Giovanni 2\, Torino
CATEGORIES:Eventi
ATTACH;FMTTYPE=image/jpeg:http://www.amicidellarteedellantiquariato.it/wp-content/uploads/2019/01/armando.jpg
END:VEVENT
END:VCALENDAR