BEGIN:VCALENDAR
VERSION:2.0
PRODID:-//Amici dell'Arte e dell'Antiquariato - ECPv4.1.1.1//NONSGML v1.0//EN
CALSCALE:GREGORIAN
METHOD:PUBLISH
X-WR-CALNAME:Amici dell'Arte e dell'Antiquariato
X-ORIGINAL-URL:http://www.amicidellarteedellantiquariato.it
X-WR-CALDESC:Events for Amici dell'Arte e dell'Antiquariato
BEGIN:VEVENT
DTSTART;TZID=Europe/Rome:20190112T111000
DTEND;TZID=Europe/Rome:20190112T120000
DTSTAMP:20260425T161657
CREATED:20190107T145330
LAST-MODIFIED:20190108T124542
UID:736-1547291400-1547294400@www.amicidellarteedellantiquariato.it
SUMMARY:100% Italia. Cent'anni di capolavori
DESCRIPTION:Ludovica Matarozzo ci accompagnerà ad una una delle “sezioni” della mostra 100% ITALIA. Cent'anni di capolavori\, un progetto culturale dedicato agli ultimi cent’anni di storia dell’ Arte italiana\, dall’inizio del Novecento ai giorni nostri.\nSarà anche l’occasione di ri-entrare nella struttura restaurata del Mastio della Cittadella.\n\nBiglietto comprensivo dell’ingresso e della visita: intero\, € 10\,00\, ridotto ad € 5\,00 per i possessori dell’ abbonamento Musei Torino. Per i giovani fino a 25 anni: euro 5\,00 ridotto ad euro 3\,00 per i possessori della Carta Musei.\nPrenotazioni immediate direttamente ad Antonella (via s.m.s. o cell. 3356784471\, o via em: antonellacontardi@libero.it o info@amicidellarteedellantiquariato.it) e comunque entro giovedì 10 gennaio.
URL:http://www.amicidellarteedellantiquariato.it/evento/100-italia-centanni-capolavori/
LOCATION:Via Cernaia 1\, Torino\, Italia
CATEGORIES:Eventi
ATTACH;FMTTYPE=image/jpeg:http://www.amicidellarteedellantiquariato.it/wp-content/uploads/2019/01/100percento-1.jpg
END:VEVENT
END:VCALENDAR