BEGIN:VCALENDAR
VERSION:2.0
PRODID:-//Amici dell'Arte e dell'Antiquariato - ECPv4.1.1.1//NONSGML v1.0//EN
CALSCALE:GREGORIAN
METHOD:PUBLISH
X-WR-CALNAME:Amici dell'Arte e dell'Antiquariato
X-ORIGINAL-URL:http://www.amicidellarteedellantiquariato.it
X-WR-CALDESC:Events for Amici dell'Arte e dell'Antiquariato
BEGIN:VEVENT
DTSTART;TZID=Europe/Rome:20181201T100000
DTEND;TZID=Europe/Rome:20181201T113000
DTSTAMP:20260425T174611
CREATED:20181102T110902
LAST-MODIFIED:20181102T110902
UID:715-1543658400-1543663800@www.amicidellarteedellantiquariato.it
SUMMARY:Colazione a Palazzo Reale
DESCRIPTION:Ritrovo\, alla biglietteria di Palazzo Reale alle ore 10\,00 prima della visita alla Cappella della Sindone che si effettuerà alle ore 10\,30\, proponiamo due chiacchiere e colazione insieme presso la storica ed accogliente caffetteria “di corte”.\nPrenotazioni\, per la visita\, entro lunedì 26 novembre. Posti limitati.\nBiglietto comprensivo dell’ingresso e della visita: intero\, € 12\,00\, ridotto ad € 5\,00 per i possessori dell’ abbonamento Musei Torino (specificare alla prenotazione). Per i giovani fino a 25 anni: euro 6\,00 ridotto ad euro 3\,00 per i possessori della Carta Musei.\n\nSi segnala la possibilità di visitare\, autonomamente la mostra “La Sindone e la sua immagine. Storia\, arte e devozione” in corso presso Palazzo Madama.
URL:http://www.amicidellarteedellantiquariato.it/evento/colazione-palazzo-reale/
LOCATION:Piazzetta Reale 1\, Torino
CATEGORIES:Eventi
ATTACH;FMTTYPE=image/jpeg:http://www.amicidellarteedellantiquariato.it/wp-content/uploads/2018/11/42837671_2211500968920580_7213794102192635904_n-1.jpg
END:VEVENT
END:VCALENDAR