BEGIN:VCALENDAR
VERSION:2.0
PRODID:-//Amici dell'Arte e dell'Antiquariato - ECPv4.1.1.1//NONSGML v1.0//EN
CALSCALE:GREGORIAN
METHOD:PUBLISH
X-WR-CALNAME:Amici dell'Arte e dell'Antiquariato
X-ORIGINAL-URL:http://www.amicidellarteedellantiquariato.it
X-WR-CALDESC:Events for Amici dell'Arte e dell'Antiquariato
BEGIN:VEVENT
DTSTART;TZID=Europe/Rome:20180623T210000
DTEND;TZID=Europe/Rome:20180623T230000
DTSTAMP:20260426T025018
CREATED:20180601T094816
LAST-MODIFIED:20180828T095250
UID:654-1529787600-1529794800@www.amicidellarteedellantiquariato.it
SUMMARY:A piedi nudi nel parco
DESCRIPTION: “A piedi nudi nel parco”: ore 21\,00\, teatro Provvidenza\, via Asinari di Bernezzo 34/a\, il “poliedrico” Edoardo Berruti\, con la “sua” compagnia teatrale “Avanzi di scena” ci propone una serata “unica”… Da non perdere!\n\nDettagli in segreteria.
URL:http://www.amicidellarteedellantiquariato.it/evento/piedi-nudi-nel-parco/
LOCATION:Via Asinari di Bernazzo 34/A\, Torino
CATEGORIES:Eventi
ATTACH;FMTTYPE=image/jpeg:http://www.amicidellarteedellantiquariato.it/wp-content/uploads/2018/08/teatro-edo-page-001.jpg
END:VEVENT
END:VCALENDAR