BEGIN:VCALENDAR
VERSION:2.0
PRODID:-//Amici dell'Arte e dell'Antiquariato - ECPv4.1.1.1//NONSGML v1.0//EN
CALSCALE:GREGORIAN
METHOD:PUBLISH
X-WR-CALNAME:Amici dell'Arte e dell'Antiquariato
X-ORIGINAL-URL:http://www.amicidellarteedellantiquariato.it
X-WR-CALDESC:Events for Amici dell'Arte e dell'Antiquariato
BEGIN:VEVENT
DTSTART;TZID=Europe/Rome:20180526T091500
DTEND;TZID=Europe/Rome:20180526T131500
DTSTAMP:20260426T042751
CREATED:20180404T213728
LAST-MODIFIED:20180404T213728
UID:638-1527326100-1527340500@www.amicidellarteedellantiquariato.it
SUMMARY:Pianezza: l’antica Pieve di San Pietro e la Madonna della Stella
DESCRIPTION:Con ritrovo ore 9\,15 in corso Stati Uniti angolo corso Re Umberto\, “Pianezza: l’antica Pieve di San Pietro e la Madonna della Stella”: antiche chiese da ri-scoprire\, affreschi sconosciuti ed emozioni alle porte di Torino\, con il “nostro” Edoardo Berruti e volontari locali.\nRientro previsto ore 13\,15. In auto propria\, possibilità di organizzare il passaggio\, chiedere ad Antonella.
URL:http://www.amicidellarteedellantiquariato.it/evento/pianezza-lantica-pieve-san-pietro-la-madonna-della-stella/
LOCATION:Pianezza
CATEGORIES:Eventi
ATTACH;FMTTYPE=image/jpeg:http://www.amicidellarteedellantiquariato.it/wp-content/uploads/2018/04/21-PIANEZZA_8696_-VETRATE.jpg
END:VEVENT
END:VCALENDAR