BEGIN:VCALENDAR
VERSION:2.0
PRODID:-//Amici dell'Arte e dell'Antiquariato - ECPv4.1.1.1//NONSGML v1.0//EN
CALSCALE:GREGORIAN
METHOD:PUBLISH
X-WR-CALNAME:Amici dell'Arte e dell'Antiquariato
X-ORIGINAL-URL:http://www.amicidellarteedellantiquariato.it
X-WR-CALDESC:Events for Amici dell'Arte e dell'Antiquariato
BEGIN:VEVENT
DTSTART;TZID=Europe/Rome:20180510T180000
DTEND;TZID=Europe/Rome:20180510T190000
DTSTAMP:20260426T042635
CREATED:20180404T213441
LAST-MODIFIED:20180404T213441
UID:635-1525975200-1525978800@www.amicidellarteedellantiquariato.it
SUMMARY:L'occhio magico di Carlo Mollino
DESCRIPTION:Visita accompagnata ad una mostra che si propone di approfondire la figura “multipla” di Carlo Mollino\, dalle architetture alla fotografia. Dall’archivio fotografico del politecnico di Torino\, un’occasione non solo per “addetti ai lavori”.\nCosto onnicomprensivo per i soci € 10\,00\, ridotto ad € 5\,00 per i possessori della Carta Musei valida. Per i giovani fino a 26 anni: euro 6\,00 ridotto ad euro 3\,00 per i possessori della Carta Musei.\nPer ragioni organizzative prenotare (CUP D’ARTE\, v. sopra) entro martedì giovedì 3 maggio 2018.
URL:http://www.amicidellarteedellantiquariato.it/evento/locchio-magico-carlo-mollino/
LOCATION:Via delle Rosine 18\, Torino
CATEGORIES:Eventi
ATTACH;FMTTYPE=image/jpeg:http://www.amicidellarteedellantiquariato.it/wp-content/uploads/2018/04/Mostra-su-Carlo-Mollino_lr-1.jpg
END:VEVENT
END:VCALENDAR